Workbook

Sheet master_20260301
A1: city name | B1: postal code | C1: Sortation terminal | D1: Delivery depot | E1: city class | F1: zone | G1: Comment
A2: Stockholm | B2: 11123 | C2: Stockholm South | D2: Stockholm South | E2: 1 | F2: =VLOOKUP(B2,zones!A:C,3,FALSE) -> Zone 1
A3: Stockholm | B3: 11124 | C3: Stockholm South | D3: Stockholm South | E3: 1 | F3: =VLOOKUP(B3,zones!A:C,3,FALSE) -> Zone 1
A4: Stockholm | B4: 11127 | C4: Stockholm South | D4: Stockholm South | E4: 1 | F4: =VLOOKUP(B4,zones!A:C,3,FALSE) -> Zone 1
A5: Stockholm | B5: 11128 | C5: Stockholm South | D5: Stockholm South | E5: 1 | F5: =VLOOKUP(B5,zones!A:C,3,FALSE) -> Zone 1
A6: Stockholm | B6: 11129 | C6: Stockholm South | D6: Stockholm South | E6: 1 | F6: =VLOOKUP(B6,zones!A:C,3,FALSE) -> Zone 1
A7: Stockholm | B7: 11130 | C7: Stockholm South | D7: Stockholm South | E7: 1 | F7: =VLOOKUP(B7,zones!A:C,3,FALSE) -> Zone 1
A8: Stockholm | B8: 11131 | C8: Stockholm South | D8: Stockholm South | E8: 1 | F8: =VLOOKUP(B8,zones!A:C,3,FALSE) -> Zone 1
A9: Stockholm | B9: 11134 | C9: Stockholm South | D9: Stockholm South | E9: 1 | F9: =VLOOKUP(B9,zones!A:C,3,FALSE) -> Zone 1
A10: Stockholm | B10: 11135 | C10: Stockholm South | D10: Stockholm South | E10: 1 | F10: =VLOOKUP(B10,zones!A:C,3,FALSE) -> Zone 1
A11: Stockholm | B11: 11136 | C11: Stockholm South | D11: Stockholm South | E11: 1 | F11: =VLOOKUP(B11,zones!A:C,3,FALSE) -> Zone 1
A12: Stockholm | B12: 11137 | C12: Stockholm South | D12: Stockholm South | E12: 1 | F12: =VLOOKUP(B12,zones!A:C,3,FALSE) -> Zone 1
A13: Stockholm | B13: 11138 | C13: Stockholm South | D13: Stockholm South | E13: 1 | F13: =VLOOKUP(B13,zones!A:C,3,FALSE) -> Zone 1
... A30: Stockholm | B30: 11164 | C30: Stockholm South | D30: Stockholm South | E30: 1 | F30: =VLOOKUP(B30,zones!A:C,3,FALSE) -> Zone 1
A31: Stockholm | B31: 11213 | C31: Stockholm South | D31: Stockholm South | E31: 1 | F31: =VLOOKUP(B31,zones!A:C,3,FALSE) -> Zone 1 | G31: Added 2026-03-01
A32: Stockholm | B32: 11214 | C32: Stockholm South | D32: Stockholm South | E32: 1 | F32: =VLOOKUP(B32,zones!A:C,3,FALSE) -> Zone 1
A33: Stockholm | B33: 11215 | C33: Stockholm South | D33: Stockholm South | E33: 1 | F33: =VLOOKUP(B33,zones!A:C,3,FALSE) -> Zone 1
A34: Stockholm | B34: 11216 | C34: Stockholm South | D34: Stockholm South | E34: 1 | F34: =VLOOKUP(B34,zones!A:C,3,FALSE) -> Zone 1
A35: Stockholm | B35: 11217 | C35: Stockholm South | D35: Stockholm South | E35: 1 | F35: =VLOOKUP(B35,zones!A:C,3,FALSE) -> Zone 1
A36: Stockholm | B36: 11218 | C36: Stockholm South | D36: Stockholm South | E36: 1 | F36: =VLOOKUP(B36,zones!A:C,3,FALSE) -> Zone 1
A37: Stockholm | B37: 11219 | C37: Stockholm South | D37: Stockholm South | E37: 1 | F37: =VLOOKUP(B37,zones!A:C,3,FALSE) -> Zone 1
A38: Stockholm | B38: 11220 | C38: Stockholm South | D38: Stockholm South | E38: 1 | F38: =VLOOKUP(B38,zones!A:C,3,FALSE) -> Zone 1
A39: Stockholm | B39: 11221 | C39: Stockholm South | D39: Stockholm South | E39: 1 | F39: =VLOOKUP(B39,zones!A:C,3,FALSE) -> Zone 1
A40: Stockholm | B40: 11222 | C40: Stockholm South | D40: Stockholm South | E40: 1 | F40: =VLOOKUP(B40,zones!A:C,3,FALSE) -> Zone 1
A41: Stockholm | B41: 11223 | C41: Stockholm South | D41: Stockholm South | E41: 1 | F41: =VLOOKUP(B41,zones!A:C,3,FALSE) -> Zone 1
A42: Stockholm | B42: 11224 | C42: Stockholm South | D42: Stockholm South | E42: 1 | F42: =VLOOKUP(B42,zones!A:C,3,FALSE) -> Zone 1
A43: Stockholm | B43: 11225 | C43: Stockholm South | D43: Stockholm South | E43: 1 | F43: =VLOOKUP(B43,zones!A:C,3,FALSE) -> Zone 1
... A85: Stockholm | B85: 11267 | C85: Stockholm South | D85: Stockholm South | E85: 1 | F85: =VLOOKUP(B85,zones!A:C,3,FALSE) -> Zone 2 S
A86: Stockholm | B86: 11268 | C86: Stockholm South | D86: Stockholm South | E86: 1 | F86: =VLOOKUP(B86,zones!A:C,3,FALSE) -> Zone 2 S | G86: Added 2026-03-01
A87: Stockholm | B87: 11269 | C87: Stockholm South | D87: Stockholm South | E87: 1 | F87: =VLOOKUP(B87,zones!A:C,3,FALSE) -> Zone 1
A88: Stockholm | B88: 11320 | C88: Stockholm South | D88: Stockholm South | E88: 1 | F88: =VLOOKUP(B88,zones!A:C,3,FALSE) -> Zone 1
A89: Stockholm | B89: 11321 | C89: Stockholm South | D89: Stockholm South | E89: 1 | F89: =VLOOKUP(B89,zones!A:C,3,FALSE) -> Zone 1
A90: Stockholm | B90: 11322 | C90: Stockholm South | D90: Stockholm South | E90: 1 | F90: =VLOOKUP(B90,zones!A:C,3,FALSE) -> Zone 1
A91: Stockholm | B91: 11323 | C91: Stockholm South | D91: Stockholm South | E91: 1 | F91: =VLOOKUP(B91,zones!A:C,3,FALSE) -> Zone 1
A92: Stockholm | B92: 11324 | C92: Stockholm South | D92: Stockholm South | E92: 1 | F92: =VLOOKUP(B92,zones!A:C,3,FALSE) -> Zone 1
A93: Stockholm | B93: 11325 | C93: Stockholm South | D93: Stockholm South | E93: 1 | F93: =VLOOKUP(B93,zones!A:C,3,FALSE) -> Zone 1
A94: Stockholm | B94: 11326 | C94: Stockholm South | D94: Stockholm South | E94: 1 | F94: =VLOOKUP(B94,zones!A:C,3,FALSE) -> Zone 1
A95: Stockholm | B95: 11327 | C95: Stockholm South | D95: Stockholm South | E95: 1 | F95: =VLOOKUP(B95,zones!A:C,3,FALSE) -> Zone 1
A96: Stockholm | B96: 11328 | C96: Stockholm South | D96: Stockholm South | E96: 1 | F96: =VLOOKUP(B96,zones!A:C,3,FALSE) -> Zone 1
A97: Stockholm | B97: 11329 | C97: Stockholm South | D97: Stockholm South | E97: 1 | F97: =VLOOKUP(B97,zones!A:C,3,FALSE) -> Zone 1
A98: Stockholm | B98: 11330 | C98: Stockholm South | D98: Stockholm South | E98: 1 | F98: =VLOOKUP(B98,zones!A:C,3,FALSE) -> Zone 1
... A434: Farsta | B434: 12363 | C434: Stockholm South | D434: Stockholm South | E434: 1 | F434: =VLOOKUP(B434,zones!A:C,3,FALSE) -> Zone 6 S
A435: Farsta | B435: 12364 | C435: Stockholm South | D435: Stockholm South | E435: 1 | F435: =VLOOKUP(B435,zones!A:C,3,FALSE) -> Zone 6 S | G435: Added 2026-03-01
A436: Farsta | B436: 12371 | C436: Stockholm South | D436: Stockholm South | E436: 1 | F436: =VLOOKUP(B436,zones!A:C,3,FALSE) -> Zone 6 S
A437: Farsta | B437: 12372 | C437: Stockholm South | D437: Stockholm South | E437: 1 | F437: =VLOOKUP(B437,zones!A:C,3,FALSE) -> Zone 6 S
A438: Farsta | B438: 12373 | C438: Stockholm South | D438: Stockholm South | E438: 1 | F438: =VLOOKUP(B438,zones!A:C,3,FALSE) -> Zone 6 S
A439: Bandhagen | B439: 12430 | C439: Stockholm South | D439: Stockholm South | E439: 1 | F439: =VLOOKUP(B439,zones!A:C,3,FALSE) -> Zone 3 S
A440: Bandhagen | B440: 12431 | C440: Stockholm South | D440: Stockholm South | E440: 1 | F440: =VLOOKUP(B440,zones!A:C,3,FALSE) -> Zone 3 S
A441: Bandhagen | B441: 12432 | C441: Stockholm South | D441: Stockholm South | E441: 1 | F441: =VLOOKUP(B441,zones!A:C,3,FALSE) -> Zone 3 S
A442: Bandhagen | B442: 12433 | C442: Stockholm South | D442: Stockholm South | E442: 1 | F442: =VLOOKUP(B442,zones!A:C,3,FALSE) -> Zone 3 S
A443: Bandhagen | B443: 12434 | C443: Stockholm South | D443: Stockholm South | E443: 1 | F443: =VLOOKUP(B443,zones!A:C,3,FALSE) -> Zone 3 S
A444: Bandhagen | B444: 12450 | C444: Stockholm South | D444: Stockholm South | E444: 1 | F444: =VLOOKUP(B444,zones!A:C,3,FALSE) -> Zone 3 S
A445: Bandhagen | B445: 12451 | C445: Stockholm South | D445: Stockholm South | E445: 1 | F445: =VLOOKUP(B445,zones!A:C,3,FALSE) -> Zone 3 S
A446: Bandhagen | B446: 12452 | C446: Stockholm South | D446: Stockholm South | E446: 1 | F446: =VLOOKUP(B446,zones!A:C,3,FALSE) -> Zone 3 S
A447: Bandhagen | B447: 12453 | C447: Stockholm South | D447: Stockholm South | E447: 1 | F447: =VLOOKUP(B447,zones!A:C,3,FALSE) -> Zone 3 S
... A484: Älvsjö | B484: 12548 | C484: Stockholm South | D484: Stockholm South | E484: 1 | F484: =VLOOKUP(B484,zones!A:C,3,FALSE) -> Zone 2 S
A485: Stockholm | B485: 12549 | C485: Stockholm South | D485: Stockholm South | E485: 1 | F485: =VLOOKUP(B485,zones!A:C,3,FALSE) -> Zone 3 S | G485: Added 2026-03-19
A486: Älvsjö | B486: 12551 | C486: Stockholm South | D486: Stockholm South | E486: 1 | F486: =VLOOKUP(B486,zones!A:C,3,FALSE) -> Zone 3 S
A487: Älvsjö | B487: 12552 | C487: Stockholm South | D487: Stockholm South | E487: 1 | F487: =VLOOKUP(B487,zones!A:C,3,FALSE) -> Zone 3 S
A488: Älvsjö | B488: 12553 | C488: Stockholm South | D488: Stockholm South | E488: 1 | F488: =VLOOKUP(B488,zones!A:C,3,FALSE) -> Zone 3 S
A489: Älvsjö | B489: 12554 | C489: Stockholm South | D489: Stockholm South | E489: 1 | F489: =VLOOKUP(B489,zones!A:C,3,FALSE) -> Zone 3 S
A490: Älvsjö | B490: 12555 | C490: Stockholm South | D490: Stockholm South | E490: 1 | F490: =VLOOKUP(B490,zones!A:C,3,FALSE) -> Zone 3 S
A491: Älvsjö | B491: 12556 | C491: Stockholm South | D491: Stockholm South | E491: 1 | F491: =VLOOKUP(B491,zones!A:C,3,FALSE) -> Zone 3 S
A492: Älvsjö | B492: 12557 | C492: Stockholm South | D492: Stockholm South | E492: 1 | F492: =VLOOKUP(B492,zones!A:C,3,FALSE) -> Zone 3 S
A493: Älvsjö | B493: 12558 | C493: Stockholm South | D493: Stockholm South | E493: 1 | F493: =VLOOKUP(B493,zones!A:C,3,FALSE) -> Zone 3 S
A494: Älvsjö | B494: 12559 | C494: Stockholm South | D494: Stockholm South | E494: 1 | F494: =VLOOKUP(B494,zones!A:C,3,FALSE) -> Zone 3 S
A495: Älvsjö | B495: 12560 | C495: Stockholm South | D495: Stockholm South | E495: 1 | F495: =VLOOKUP(B495,zones!A:C,3,FALSE) -> Zone 3 S
A496: Älvsjö | B496: 12570 | C496: Stockholm South | D496: Stockholm South | E496: 1 | F496: =VLOOKUP(B496,zones!A:C,3,FALSE) -> Zone 3 S
A497: Älvsjö | B497: 12571 | C497: Stockholm South | D497: Stockholm South | E497: 1 | F497: =VLOOKUP(B497,zones!A:C,3,FALSE) -> Zone 2 S
... A632: Nacka | B632: 13157 | C632: Stockholm South | D632: Stockholm South | E632: 1 | F632: =VLOOKUP(B632,zones!A:C,3,FALSE) -> Zone 2 E
A633: Nacka | B633: 13158 | C633: Stockholm South | D633: Stockholm South | E633: 1 | F633: =VLOOKUP(B633,zones!A:C,3,FALSE) -> Zone 2 E | G633: Added 2026-03-01
A634: Nacka | B634: 13160 | C634: Stockholm South | D634: Stockholm South | E634: 1 | F634: =VLOOKUP(B634,zones!A:C,3,FALSE) -> Zone 2 E
A635: Nacka | B635: 13161 | C635: Stockholm South | D635: Stockholm South | E635: 1 | F635: =VLOOKUP(B635,zones!A:C,3,FALSE) -> Zone 2 E
A636: Nacka | B636: 13165 | C636: Stockholm South | D636: Stockholm South | E636: 1 | F636: =VLOOKUP(B636,zones!A:C,3,FALSE) -> Zone 2 E
A637: Nacka | B637: 13171 | C637: Stockholm South | D637: Stockholm South | E637: 1 | F637: =VLOOKUP(B637,zones!A:C,3,FALSE) -> Zone 2 E
A638: Nacka | B638: 13172 | C638: Stockholm South | D638: Stockholm South | E638: 1 | F638: =VLOOKUP(B638,zones!A:C,3,FALSE) -> Zone 2 E
A639: Nacka | B639: 13173 | C639: Stockholm South | D639: Stockholm South | E639: 1 | F639: =VLOOKUP(B639,zones!A:C,3,FALSE) -> Zone 2 E
A640: Nacka | B640: 13174 | C640: Stockholm South | D640: Stockholm South | E640: 1 | F640: =VLOOKUP(B640,zones!A:C,3,FALSE) -> Zone 2 E
A641: Nacka | B641: 13175 | C641: Stockholm South | D641: Stockholm South | E641: 1 | F641: =VLOOKUP(B641,zones!A:C,3,FALSE) -> Zone 2 E
A642: Nacka | B642: 13176 | C642: Stockholm South | D642: Stockholm South | E642: 1 | F642: =VLOOKUP(B642,zones!A:C,3,FALSE) -> Zone 2 E | G642: Added 2026-03-01
A643: Saltsjö-Boo | B643: 13230 | C643: Stockholm South | D643: Stockholm South | E643: 1 | F643: =VLOOKUP(B643,zones!A:C,3,FALSE) -> Zone 9 - Värmdö
A644: Saltsjö-Boo | B644: 13231 | C644: Stockholm South | D644: Stockholm South | E644: 1 | F644: =VLOOKUP(B644,zones!A:C,3,FALSE) -> Zone 9 - Värmdö
A645: Saltsjö-Boo | B645: 13232 | C645: Stockholm South | D645: Stockholm South | E645: 1 | F645: =VLOOKUP(B645,zones!A:C,3,FALSE) -> Zone 9 - Värmdö
A646: Saltsjö-Boo | B646: 13233 | C646: Stockholm South | D646: Stockholm South | E646: 1 | F646: =VLOOKUP(B646,zones!A:C,3,FALSE) -> Zone 9 - Värmdö
A647: Saltsjö-Boo | B647: 13234 | C647: Stockholm South | D647: Stockholm South | E647: 1 | F647: =VLOOKUP(B647,zones!A:C,3,FALSE) -> Zone 9 - Värmdö
A648: Saltsjö-Boo | B648: 13235 | C648: Stockholm South | D648: Stockholm South | E648: 1 | F648: =VLOOKUP(B648,zones!A:C,3,FALSE) -> Zone 9 - Värmdö
A649: Saltsjö-Boo | B649: 13236 | C649: Stockholm South | D649: Stockholm South | E649: 1 | F649: =VLOOKUP(B649,zones!A:C,3,FALSE) -> Zone 9 - Värmdö
A650: Saltsjö-Boo | B650: 13237 | C650: Stockholm South | D650: Stockholm South | E650: 1 | F650: =VLOOKUP(B650,zones!A:C,3,FALSE) -> Zone 9 - Värmdö
A651: Saltsjö-Boo | B651: 13238 | C651: Stockholm South | D651: Stockholm South | E651: 1 | F651: =VLOOKUP(B651,zones!A:C,3,FALSE) -> Zone 9 - Värmdö
A652: Saltsjö-Boo | B652: 13239 | C652: Stockholm South | D652: Stockholm South | E652: 1 | F652: =VLOOKUP(B652,zones!A:C,3,FALSE) -> Zone 9 - Värmdö
A653: Saltsjö-Boo | B653: 13240 | C653: Stockholm South | D653: Stockholm South | E653: 1 | F653: =VLOOKUP(B653,zones!A:C,3,FALSE) -> Zone 9 - Värmdö
A654: Saltsjö-Boo | B654: 13241 | C654: Stockholm South | D654: Stockholm South | E654: 1 | F654: =VLOOKUP(B654,zones!A:C,3,FALSE) -> Zone 9 - Värmdö
... A665: Saltsjö-Boo | B665: 13253 | C665: Stockholm South | D665: Stockholm South | E665: 1 | F665: =VLOOKUP(B665,zones!A:C,3,FALSE) -> Zone 9 - Värmdö
A666: Saltsjö-Boo | B666: 13254 | C666: Stockholm South | D666: Stockholm South | E666: 1 | F666: =VLOOKUP(B666,zones!A:C,3,FALSE) -> Zone 9 - Värmdö | G666: Added 2026-03-01
A667: Saltsjöbaden | B667: 13331 | C667: Stockholm South | D667: Stockholm South | E667: 1 | F667: =VLOOKUP(B667,zones!A:C,3,FALSE) -> Saltsjöbaden
A668: Saltsjöbaden | B668: 13332 | C668: Stockholm South | D668: Stockholm South | E668: 1 | F668: =VLOOKUP(B668,zones!A:C,3,FALSE) -> Saltsjöbaden
A669: Saltsjöbaden | B669: 13333 | C669: Stockholm South | D669: Stockholm South | E669: 1 | F669: =VLOOKUP(B669,zones!A:C,3,FALSE) -> Saltsjöbaden
A670: Saltsjöbaden | B670: 13334 | C670: Stockholm South | D670: Stockholm South | E670: 1 | F670: =VLOOKUP(B670,zones!A:C,3,FALSE) -> Saltsjöbaden
A671: Saltsjöbaden | B671: 13335 | C671: Stockholm South | D671: Stockholm South | E671: 1 | F671: =VLOOKUP(B671,zones!A:C,3,FALSE) -> Saltsjöbaden
A672: Saltsjöbaden | B672: 13336 | C672: Stockholm South | D672: Stockholm South | E672: 1 | F672: =VLOOKUP(B672,zones!A:C,3,FALSE) -> Saltsjöbaden
...

Sheet changelog
A1: city name | B1: postal code | C1: Sortation terminal | D1: Delivery depot | E1: city class | F1: Date change | G1: Event
A2: Stockholm | B2: 11213 | C2: Stockholm South | D2: Stockholm South | E2: 1 | F2: 46082 | G2: added
A3: Stockholm | B3: 11268 | C3: Stockholm South | D3: Stockholm South | E3: 1 | F3: 46082 | G3: added
A4: Farsta | B4: 12364 | C4: Stockholm South | D4: Stockholm South | E4: 1 | F4: 46082 | G4: added
A5: Nacka | B5: 13158 | C5: Stockholm South | D5: Stockholm South | E5: 1 | F5: 46082 | G5: added
A6: Nacka | B6: 13176 | C6: Stockholm South | D6: Stockholm South | E6: 1 | F6: 46082 | G6: added
A7: Saltsjö-Boo | B7: 13254 | C7: Stockholm South | D7: Stockholm South | E7: 1 | F7: 46082 | G7: added
A8: Gustavsberg | B8: 13445 | C8: Stockholm South | D8: Stockholm South | E8: 4 | F8: 46082 | G8: added
A9: Gustavsberg | B9: 13446 | C9: Stockholm South | D9: Stockholm South | E9: 4 | F9: 46082 | G9: added
A10: Vega | B10: 13654 | C10: Stockholm South | D10: Stockholm South | E10: 3 | F10: 46082 | G10: added
A11: Västerhaninge | B11: 13744 | C11: Stockholm South | D11: Stockholm South | E11: 3 | F11: 46082 | G11: added
A12: Värmdö | B12: 13937 | C12: Stockholm South | D12: Stockholm South | E12: 4 | F12: 46082 | G12: added
A13: Trångsund | B13: 14267 | C13: Stockholm South | D13: Stockholm South | E13: 1 | F13: 46082 | G13: added
... A123: Karlstad | B123: 65592 | C123: jönköping | D123: Karlstad | E123: 4 | F123: 46100 | G123: added

Sheet zones
A1: postnr | B1: zone_id | C1: zone_name
A2: 11120 | B2: 39 | C2: Zone 1
A3: 11121 | B3: 39 | C3: Zone 1
A4: 11122 | B4: 39 | C4: Zone 1
A5: 11123 | B5: 39 | C5: Zone 1
A6: 11124 | B6: 39 | C6: Zone 1
A7: 11127 | B7: 39 | C7: Zone 1
A8: 11128 | B8: 39 | C8: Zone 1
A9: 11129 | B9: 39 | C9: Zone 1
A10: 11130 | B10: 39 | C10: Zone 1
A11: 11131 | B11: 39 | C11: Zone 1
A12: 11134 | B12: 39 | C12: Zone 1
A13: 11135 | B13: 39 | C13: Zone 1
... A7213: 99998 | B7213: 51 | C7213: Zone 9 - Värmdö
