Workbook

Sheet master_20260301
A1: city name | B1: postal code | C1: Sortation terminal | D1: Delivery depot | E1: city class | F1: zone | G1: Comment
A2: Stockholm | B2: 11123 | C2: Stockholm South | D2: Stockholm South | E2: 1 | F2: =VLOOKUP(B2,zones!A:C,3,FALSE) -> Zone 1
A3: Stockholm | B3: 11124 | C3: Stockholm South | D3: Stockholm South | E3: 1 | F3: =VLOOKUP(B3,zones!A:C,3,FALSE) -> Zone 1
A4: Stockholm | B4: 11127 | C4: Stockholm South | D4: Stockholm South | E4: 1 | F4: =VLOOKUP(B4,zones!A:C,3,FALSE) -> Zone 1
A5: Stockholm | B5: 11128 | C5: Stockholm South | D5: Stockholm South | E5: 1 | F5: =VLOOKUP(B5,zones!A:C,3,FALSE) -> Zone 1
A6: Stockholm | B6: 11129 | C6: Stockholm South | D6: Stockholm South | E6: 1 | F6: =VLOOKUP(B6,zones!A:C,3,FALSE) -> Zone 1
A7: Stockholm | B7: 11130 | C7: Stockholm South | D7: Stockholm South | E7: 1 | F7: =VLOOKUP(B7,zones!A:C,3,FALSE) -> Zone 1
A8: Stockholm | B8: 11131 | C8: Stockholm South | D8: Stockholm South | E8: 1 | F8: =VLOOKUP(B8,zones!A:C,3,FALSE) -> Zone 1
A9: Stockholm | B9: 11134 | C9: Stockholm South | D9: Stockholm South | E9: 1 | F9: =VLOOKUP(B9,zones!A:C,3,FALSE) -> Zone 1
A10: Stockholm | B10: 11135 | C10: Stockholm South | D10: Stockholm South | E10: 1 | F10: =VLOOKUP(B10,zones!A:C,3,FALSE) -> Zone 1
A11: Stockholm | B11: 11136 | C11: Stockholm South | D11: Stockholm South | E11: 1 | F11: =VLOOKUP(B11,zones!A:C,3,FALSE) -> Zone 1
A12: Stockholm | B12: 11137 | C12: Stockholm South | D12: Stockholm South | E12: 1 | F12: =VLOOKUP(B12,zones!A:C,3,FALSE) -> Zone 1
A13: Stockholm | B13: 11138 | C13: Stockholm South | D13: Stockholm South | E13: 1 | F13: =VLOOKUP(B13,zones!A:C,3,FALSE) -> Zone 1
... A30: Stockholm | B30: 11164 | C30: Stockholm South | D30: Stockholm South | E30: 1 | F30: =VLOOKUP(B30,zones!A:C,3,FALSE) -> Zone 1
A31: Stockholm | B31: 11213 | C31: Stockholm South | D31: Stockholm South | E31: 1 | F31: =VLOOKUP(B31,zones!A:C,3,FALSE) -> Zone 1 | G31: Added 2026-03-01
A32: Stockholm | B32: 11214 | C32: Stockholm South | D32: Stockholm South | E32: 1 | F32: =VLOOKUP(B32,zones!A:C,3,FALSE) -> Zone 1
A33: Stockholm | B33: 11215 | C33: Stockholm South | D33: Stockholm South | E33: 1 | F33: =VLOOKUP(B33,zones!A:C,3,FALSE) -> Zone 1
A34: Stockholm | B34: 11216 | C34: Stockholm South | D34: Stockholm South | E34: 1 | F34: =VLOOKUP(B34,zones!A:C,3,FALSE) -> Zone 1
A35: Stockholm | B35: 11217 | C35: Stockholm South | D35: Stockholm South | E35: 1 | F35: =VLOOKUP(B35,zones!A:C,3,FALSE) -> Zone 1
A36: Stockholm | B36: 11218 | C36: Stockholm South | D36: Stockholm South | E36: 1 | F36: =VLOOKUP(B36,zones!A:C,3,FALSE) -> Zone 1
A37: Stockholm | B37: 11219 | C37: Stockholm South | D37: Stockholm South | E37: 1 | F37: =VLOOKUP(B37,zones!A:C,3,FALSE) -> Zone 1
A38: Stockholm | B38: 11220 | C38: Stockholm South | D38: Stockholm South | E38: 1 | F38: =VLOOKUP(B38,zones!A:C,3,FALSE) -> Zone 1
A39: Stockholm | B39: 11221 | C39: Stockholm South | D39: Stockholm South | E39: 1 | F39: =VLOOKUP(B39,zones!A:C,3,FALSE) -> Zone 1
A40: Stockholm | B40: 11222 | C40: Stockholm South | D40: Stockholm South | E40: 1 | F40: =VLOOKUP(B40,zones!A:C,3,FALSE) -> Zone 1
A41: Stockholm | B41: 11223 | C41: Stockholm South | D41: Stockholm South | E41: 1 | F41: =VLOOKUP(B41,zones!A:C,3,FALSE) -> Zone 1
A42: Stockholm | B42: 11224 | C42: Stockholm South | D42: Stockholm South | E42: 1 | F42: =VLOOKUP(B42,zones!A:C,3,FALSE) -> Zone 1
A43: Stockholm | B43: 11225 | C43: Stockholm South | D43: Stockholm South | E43: 1 | F43: =VLOOKUP(B43,zones!A:C,3,FALSE) -> Zone 1
... A85: Stockholm | B85: 11267 | C85: Stockholm South | D85: Stockholm South | E85: 1 | F85: =VLOOKUP(B85,zones!A:C,3,FALSE) -> Zone 2 S
A86: Stockholm | B86: 11268 | C86: Stockholm South | D86: Stockholm South | E86: 1 | F86: =VLOOKUP(B86,zones!A:C,3,FALSE) -> Zone 2 S | G86: Added 2026-03-01
A87: Stockholm | B87: 11269 | C87: Stockholm South | D87: Stockholm South | E87: 1 | F87: =VLOOKUP(B87,zones!A:C,3,FALSE) -> Zone 1
A88: Stockholm | B88: 11320 | C88: Stockholm South | D88: Stockholm South | E88: 1 | F88: =VLOOKUP(B88,zones!A:C,3,FALSE) -> Zone 1
A89: Stockholm | B89: 11321 | C89: Stockholm South | D89: Stockholm South | E89: 1 | F89: =VLOOKUP(B89,zones!A:C,3,FALSE) -> Zone 1
A90: Stockholm | B90: 11322 | C90: Stockholm South | D90: Stockholm South | E90: 1 | F90: =VLOOKUP(B90,zones!A:C,3,FALSE) -> Zone 1
A91: Stockholm | B91: 11323 | C91: Stockholm South | D91: Stockholm South | E91: 1 | F91: =VLOOKUP(B91,zones!A:C,3,FALSE) -> Zone 1
A92: Stockholm | B92: 11324 | C92: Stockholm South | D92: Stockholm South | E92: 1 | F92: =VLOOKUP(B92,zones!A:C,3,FALSE) -> Zone 1
A93: Stockholm | B93: 11325 | C93: Stockholm South | D93: Stockholm South | E93: 1 | F93: =VLOOKUP(B93,zones!A:C,3,FALSE) -> Zone 1
A94: Stockholm | B94: 11326 | C94: Stockholm South | D94: Stockholm South | E94: 1 | F94: =VLOOKUP(B94,zones!A:C,3,FALSE) -> Zone 1
A95: Stockholm | B95: 11327 | C95: Stockholm South | D95: Stockholm South | E95: 1 | F95: =VLOOKUP(B95,zones!A:C,3,FALSE) -> Zone 1
A96: Stockholm | B96: 11328 | C96: Stockholm South | D96: Stockholm South | E96: 1 | F96: =VLOOKUP(B96,zones!A:C,3,FALSE) -> Zone 1
A97: Stockholm | B97: 11329 | C97: Stockholm South | D97: Stockholm South | E97: 1 | F97: =VLOOKUP(B97,zones!A:C,3,FALSE) -> Zone 1
...

Sheet changelog
A1: city name | B1: postal code | C1: Sortation terminal | D1: Delivery depot | E1: city class | F1: Date change | G1: Event
A2: Stockholm | B2: 11213 | C2: Stockholm South | D2: Stockholm South | E2: 1 | F2: 46082 | G2: added
A3: Stockholm | B3: 11268 | C3: Stockholm South | D3: Stockholm South | E3: 1 | F3: 46082 | G3: added
A4: Farsta | B4: 12364 | C4: Stockholm South | D4: Stockholm South | E4: 1 | F4: 46082 | G4: added
A5: Nacka | B5: 13158 | C5: Stockholm South | D5: Stockholm South | E5: 1 | F5: 46082 | G5: added
A6: Nacka | B6: 13176 | C6: Stockholm South | D6: Stockholm South | E6: 1 | F6: 46082 | G6: added
A7: Saltsjö-Boo | B7: 13254 | C7: Stockholm South | D7: Stockholm South | E7: 1 | F7: 46082 | G7: added
A8: Gustavsberg | B8: 13445 | C8: Stockholm South | D8: Stockholm South | E8: 4 | F8: 46082 | G8: added
A9: Gustavsberg | B9: 13446 | C9: Stockholm South | D9: Stockholm South | E9: 4 | F9: 46082 | G9: added
A10: Vega | B10: 13654 | C10: Stockholm South | D10: Stockholm South | E10: 3 | F10: 46082 | G10: added
A11: Västerhaninge | B11: 13744 | C11: Stockholm South | D11: Stockholm South | E11: 3 | F11: 46082 | G11: added
A12: Värmdö | B12: 13937 | C12: Stockholm South | D12: Stockholm South | E12: 4 | F12: 46082 | G12: added
A13: Trångsund | B13: 14267 | C13: Stockholm South | D13: Stockholm South | E13: 1 | F13: 46082 | G13: added
... A123: Karlstad | B123: 65592 | C123: jönköping | D123: Karlstad | E123: 4 | F123: 46100 | G123: added

Sheet zones
A1: postnr | B1: zone_id | C1: zone_name
A2: 11120 | B2: 39 | C2: Zone 1
A3: 11121 | B3: 39 | C3: Zone 1
A4: 11122 | B4: 39 | C4: Zone 1
A5: 11123 | B5: 39 | C5: Zone 1
A6: 11124 | B6: 39 | C6: Zone 1
A7: 11127 | B7: 39 | C7: Zone 1
A8: 11128 | B8: 39 | C8: Zone 1
A9: 11129 | B9: 39 | C9: Zone 1
A10: 11130 | B10: 39 | C10: Zone 1
A11: 11131 | B11: 39 | C11: Zone 1
A12: 11134 | B12: 39 | C12: Zone 1
A13: 11135 | B13: 39 | C13: Zone 1
... A7213: 99998 | B7213: 51 | C7213: Zone 9 - Värmdö
